{
 "currentVersion": 10.61,
 "serviceDescription": "Aerial Overlay Basemap (External TEST)",
 "mapName": "Base Layers",
 "description": "",
 "copyrightText": "Oregon Department of Transportation, Geographic Information Services Unit",
 "supportsDynamicLayers": true,
 "layers": [
  {
   "id": 0,
   "name": "WEBMAP_map_extent",
   "parentLayerId": -1,
   "defaultVisibility": false,
   "subLayerIds": null,
   "minScale": 0,
   "maxScale": 0
  },
  {
   "id": 1,
   "name": "Overlay Features",
   "parentLayerId": -1,
   "defaultVisibility": true,
   "subLayerIds": [
    2,
    10,
    31,
    32,
    35,
    40
   ],
   "minScale": 0,
   "maxScale": 0
  },
  {
   "id": 2,
   "name": "Annotation",
   "parentLayerId": 1,
   "defaultVisibility": true,
   "subLayerIds": [
    3,
    7
   ],
   "minScale": 0,
   "maxScale": 0
  },
  {
   "id": 3,
   "name": "CITYMAP",
   "parentLayerId": 2,
   "defaultVisibility": true,
   "subLayerIds": [
    4,
    5,
    6
   ],
   "minScale": 20000,
   "maxScale": 0
  },
  {
   "id": 4,
   "name": "River Milepoints",
   "parentLayerId": 3,
   "defaultVisibility": true,
   "subLayerIds": null,
   "minScale": 20000,
   "maxScale": 0
  },
  {
   "id": 5,
   "name": "CITYMAP_hydro_labels",
   "parentLayerId": 3,
   "defaultVisibility": true,
   "subLayerIds": null,
   "minScale": 20000,
   "maxScale": 0
  },
  {
   "id": 6,
   "name": "CITYMAP_landfeature_labels",
   "parentLayerId": 3,
   "defaultVisibility": true,
   "subLayerIds": null,
   "minScale": 20000,
   "maxScale": 0
  },
  {
   "id": 7,
   "name": "COMAP",
   "parentLayerId": 2,
   "defaultVisibility": true,
   "subLayerIds": [
    8,
    9
   ],
   "minScale": 100000,
   "maxScale": 35000
  },
  {
   "id": 8,
   "name": "COMAP_hydro_labels",
   "parentLayerId": 7,
   "defaultVisibility": true,
   "subLayerIds": null,
   "minScale": 0,
   "maxScale": 0
  },
  {
   "id": 9,
   "name": "COMAP_landfeature_labels",
   "parentLayerId": 7,
   "defaultVisibility": true,
   "subLayerIds": null,
   "minScale": 0,
   "maxScale": 0
  },
  {
   "id": 10,
   "name": "Labels",
   "parentLayerId": 1,
   "defaultVisibility": true,
   "subLayerIds": [
    11,
    15,
    16,
    17,
    18,
    19,
    23
   ],
   "minScale": 0,
   "maxScale": 0
  },
  {
   "id": 11,
   "name": "Cities",
   "parentLayerId": 10,
   "defaultVisibility": true,
   "subLayerIds": [
    12,
    13,
    14
   ],
   "minScale": 5000000,
   "maxScale": 0
  },
  {
   "id": 13,
   "name": "OR Unincorporated City Labels",
   "parentLayerId": 11,
   "defaultVisibility": true,
   "subLayerIds": null,
   "minScale": 200000,
   "maxScale": 0
  },
  {
   "id": 14,
   "name": "Outside State City Labels",
   "parentLayerId": 11,
   "defaultVisibility": true,
   "subLayerIds": null,
   "minScale": 0,
   "maxScale": 0
  },
  {
   "id": 15,
   "name": "Airports",
   "parentLayerId": 10,
   "defaultVisibility": true,
   "subLayerIds": null,
   "minScale": 80000,
   "maxScale": 0
  },
  {
   "id": 16,
   "name": "RLIS Parks and Community Centers",
   "parentLayerId": 10,
   "defaultVisibility": true,
   "subLayerIds": null,
   "minScale": 0,
   "maxScale": 0
  },
  {
   "id": 17,
   "name": "ESRI Large Area Landmarks",
   "parentLayerId": 10,
   "defaultVisibility": true,
   "subLayerIds": null,
   "minScale": 90000,
   "maxScale": 0
  },
  {
   "id": 18,
   "name": "Schools",
   "parentLayerId": 10,
   "defaultVisibility": true,
   "subLayerIds": null,
   "minScale": 0,
   "maxScale": 0
  },
  {
   "id": 19,
   "name": "States and Ocean",
   "parentLayerId": 10,
   "defaultVisibility": true,
   "subLayerIds": [
    20,
    21,
    22
   ],
   "minScale": 0,
   "maxScale": 0
  },
  {
   "id": 20,
   "name": "Ocean Labels_3500k and Up",
   "parentLayerId": 19,
   "defaultVisibility": true,
   "subLayerIds": null,
   "minScale": 0,
   "maxScale": 0
  },
  {
   "id": 21,
   "name": "States Labels_3000k and Down",
   "parentLayerId": 19,
   "defaultVisibility": true,
   "subLayerIds": null,
   "minScale": 2500000,
   "maxScale": 0
  },
  {
   "id": 22,
   "name": "States Labels_3500k and Up",
   "parentLayerId": 19,
   "defaultVisibility": true,
   "subLayerIds": null,
   "minScale": 0,
   "maxScale": 2750000
  },
  {
   "id": 23,
   "name": "Public Lands",
   "parentLayerId": 10,
   "defaultVisibility": true,
   "subLayerIds": [
    24,
    25,
    26,
    27,
    28,
    29,
    30
   ],
   "minScale": 750000,
   "maxScale": 0
  },
  {
   "id": 24,
   "name": "State Forest",
   "parentLayerId": 23,
   "defaultVisibility": true,
   "subLayerIds": null,
   "minScale": 0,
   "maxScale": 0
  },
  {
   "id": 25,
   "name": "State Park",
   "parentLayerId": 23,
   "defaultVisibility": true,
   "subLayerIds": null,
   "minScale": 0,
   "maxScale": 0
  },
  {
   "id": 26,
   "name": "Federal Land",
   "parentLayerId": 23,
   "defaultVisibility": true,
   "subLayerIds": null,
   "minScale": 0,
   "maxScale": 0
  },
  {
   "id": 27,
   "name": "Wilderness Areas",
   "parentLayerId": 23,
   "defaultVisibility": true,
   "subLayerIds": null,
   "minScale": 0,
   "maxScale": 0
  },
  {
   "id": 28,
   "name": "National Forest_CA NV ID WA",
   "parentLayerId": 23,
   "defaultVisibility": true,
   "subLayerIds": null,
   "minScale": 0,
   "maxScale": 0
  },
  {
   "id": 29,
   "name": "National Forest",
   "parentLayerId": 23,
   "defaultVisibility": true,
   "subLayerIds": null,
   "minScale": 0,
   "maxScale": 0
  },
  {
   "id": 30,
   "name": "National Parks",
   "parentLayerId": 23,
   "defaultVisibility": true,
   "subLayerIds": null,
   "minScale": 0,
   "maxScale": 0
  },
  {
   "id": 31,
   "name": "State Boundary Line",
   "parentLayerId": 1,
   "defaultVisibility": true,
   "subLayerIds": null,
   "minScale": 0,
   "maxScale": 0
  },
  {
   "id": 32,
   "name": "Counties",
   "parentLayerId": 1,
   "defaultVisibility": true,
   "subLayerIds": [
    33,
    34
   ],
   "minScale": 2500000,
   "maxScale": 0
  },
  {
   "id": 33,
   "name": "County Labels",
   "parentLayerId": 32,
   "defaultVisibility": true,
   "subLayerIds": null,
   "minScale": 0,
   "maxScale": 0
  },
  {
   "id": 34,
   "name": "County Boundaries Polyline",
   "parentLayerId": 32,
   "defaultVisibility": true,
   "subLayerIds": null,
   "minScale": 0,
   "maxScale": 0
  },
  {
   "id": 35,
   "name": "Points of Interest",
   "parentLayerId": 1,
   "defaultVisibility": true,
   "subLayerIds": [
    36,
    37,
    38,
    39
   ],
   "minScale": 60000,
   "maxScale": 0
  },
  {
   "id": 36,
   "name": "Cemetery",
   "parentLayerId": 35,
   "defaultVisibility": true,
   "subLayerIds": null,
   "minScale": 0,
   "maxScale": 0
  },
  {
   "id": 37,
   "name": "Sno-Park",
   "parentLayerId": 35,
   "defaultVisibility": true,
   "subLayerIds": null,
   "minScale": 0,
   "maxScale": 0
  },
  {
   "id": 38,
   "name": "Weigh Stations",
   "parentLayerId": 35,
   "defaultVisibility": true,
   "subLayerIds": null,
   "minScale": 0,
   "maxScale": 0
  },
  {
   "id": 39,
   "name": "Rest Areas",
   "parentLayerId": 35,
   "defaultVisibility": true,
   "subLayerIds": null,
   "minScale": 0,
   "maxScale": 0
  },
  {
   "id": 40,
   "name": "Transportation",
   "parentLayerId": 1,
   "defaultVisibility": true,
   "subLayerIds": [
    41,
    105,
    106
   ],
   "minScale": 0,
   "maxScale": 0
  },
  {
   "id": 41,
   "name": "Roads",
   "parentLayerId": 40,
   "defaultVisibility": true,
   "subLayerIds": [
    42,
    71,
    77,
    83,
    89,
    96
   ],
   "minScale": 0,
   "maxScale": 0
  },
  {
   "id": 42,
   "name": "Routeshields",
   "parentLayerId": 41,
   "defaultVisibility": true,
   "subLayerIds": [
    43,
    49
   ],
   "minScale": 0,
   "maxScale": 0
  },
  {
   "id": 43,
   "name": "Oregon Routeshields",
   "parentLayerId": 42,
   "defaultVisibility": true,
   "subLayerIds": [
    44,
    45,
    46,
    47,
    48
   ],
   "minScale": 0,
   "maxScale": 0
  },
  {
   "id": 44,
   "name": "Northwest",
   "parentLayerId": 43,
   "defaultVisibility": true,
   "subLayerIds": null,
   "minScale": 5500000,
   "maxScale": 3500001
  },
  {
   "id": 45,
   "name": "State",
   "parentLayerId": 43,
   "defaultVisibility": true,
   "subLayerIds": null,
   "minScale": 3500000,
   "maxScale": 750001
  },
  {
   "id": 46,
   "name": "Regional",
   "parentLayerId": 43,
   "defaultVisibility": true,
   "subLayerIds": null,
   "minScale": 750000,
   "maxScale": 300001
  },
  {
   "id": 47,
   "name": "County",
   "parentLayerId": 43,
   "defaultVisibility": true,
   "subLayerIds": null,
   "minScale": 300000,
   "maxScale": 100001
  },
  {
   "id": 48,
   "name": "City",
   "parentLayerId": 43,
   "defaultVisibility": true,
   "subLayerIds": null,
   "minScale": 100000,
   "maxScale": 0
  },
  {
   "id": 49,
   "name": "Outside States Routeshields",
   "parentLayerId": 42,
   "defaultVisibility": true,
   "subLayerIds": [
    50,
    55,
    59,
    63,
    67
   ],
   "minScale": 0,
   "maxScale": 0
  },
  {
   "id": 50,
   "name": "Northwest-State",
   "parentLayerId": 49,
   "defaultVisibility": true,
   "subLayerIds": [
    51,
    54
   ],
   "minScale": 0,
   "maxScale": 1500000
  },
  {
   "id": 51,
   "name": "Interstate Shields",
   "parentLayerId": 50,
   "defaultVisibility": true,
   "subLayerIds": [
    52,
    53
   ],
   "minScale": 0,
   "maxScale": 0
  },
  {
   "id": 52,
   "name": "Interstate Shields - single",
   "parentLayerId": 51,
   "defaultVisibility": true,
   "subLayerIds": null,
   "minScale": 0,
   "maxScale": 0
  },
  {
   "id": 53,
   "name": "Interstate Shields - wide",
   "parentLayerId": 51,
   "defaultVisibility": true,
   "subLayerIds": null,
   "minScale": 0,
   "maxScale": 0
  },
  {
   "id": 54,
   "name": "US Route Shields",
   "parentLayerId": 50,
   "defaultVisibility": true,
   "subLayerIds": null,
   "minScale": 3500000,
   "maxScale": 0
  },
  {
   "id": 55,
   "name": "State",
   "parentLayerId": 49,
   "defaultVisibility": true,
   "subLayerIds": [
    56,
    57,
    58
   ],
   "minScale": 1500000,
   "maxScale": 750001
  },
  {
   "id": 56,
   "name": "Washington State Highways",
   "parentLayerId": 55,
   "defaultVisibility": true,
   "subLayerIds": null,
   "minScale": 0,
   "maxScale": 0
  },
  {
   "id": 57,
   "name": "Idaho State Highways",
   "parentLayerId": 55,
   "defaultVisibility": true,
   "subLayerIds": null,
   "minScale": 0,
   "maxScale": 0
  },
  {
   "id": 58,
   "name": "California and Nevada Highways",
   "parentLayerId": 55,
   "defaultVisibility": true,
   "subLayerIds": null,
   "minScale": 0,
   "maxScale": 0
  },
  {
   "id": 59,
   "name": "Regional",
   "parentLayerId": 49,
   "defaultVisibility": true,
   "subLayerIds": [
    60,
    61,
    62
   ],
   "minScale": 750000,
   "maxScale": 300001
  },
  {
   "id": 60,
   "name": "Washington State Highways",
   "parentLayerId": 59,
   "defaultVisibility": true,
   "subLayerIds": null,
   "minScale": 0,
   "maxScale": 0
  },
  {
   "id": 61,
   "name": "Idaho State Highways",
   "parentLayerId": 59,
   "defaultVisibility": true,
   "subLayerIds": null,
   "minScale": 0,
   "maxScale": 0
  },
  {
   "id": 62,
   "name": "California and Nevada Highways",
   "parentLayerId": 59,
   "defaultVisibility": true,
   "subLayerIds": null,
   "minScale": 0,
   "maxScale": 0
  },
  {
   "id": 63,
   "name": "County",
   "parentLayerId": 49,
   "defaultVisibility": true,
   "subLayerIds": [
    64,
    65,
    66
   ],
   "minScale": 300000,
   "maxScale": 100001
  },
  {
   "id": 64,
   "name": "Washington State Highways",
   "parentLayerId": 63,
   "defaultVisibility": true,
   "subLayerIds": null,
   "minScale": 0,
   "maxScale": 0
  },
  {
   "id": 65,
   "name": "Idaho State Highways",
   "parentLayerId": 63,
   "defaultVisibility": true,
   "subLayerIds": null,
   "minScale": 0,
   "maxScale": 0
  },
  {
   "id": 66,
   "name": "California and Nevada Highways",
   "parentLayerId": 63,
   "defaultVisibility": true,
   "subLayerIds": null,
   "minScale": 0,
   "maxScale": 0
  },
  {
   "id": 67,
   "name": "City",
   "parentLayerId": 49,
   "defaultVisibility": true,
   "subLayerIds": [
    68,
    69,
    70
   ],
   "minScale": 100000,
   "maxScale": 0
  },
  {
   "id": 68,
   "name": "Washington State Highways",
   "parentLayerId": 67,
   "defaultVisibility": true,
   "subLayerIds": null,
   "minScale": 0,
   "maxScale": 0
  },
  {
   "id": 69,
   "name": "Idaho State Highways",
   "parentLayerId": 67,
   "defaultVisibility": true,
   "subLayerIds": null,
   "minScale": 0,
   "maxScale": 0
  },
  {
   "id": 70,
   "name": "California and Nevada Highways",
   "parentLayerId": 67,
   "defaultVisibility": true,
   "subLayerIds": null,
   "minScale": 0,
   "maxScale": 0
  },
  {
   "id": 71,
   "name": "Northwest 4000k and Up",
   "parentLayerId": 41,
   "defaultVisibility": true,
   "subLayerIds": [
    72,
    73
   ],
   "minScale": 10000000,
   "maxScale": 3500001
  },
  {
   "id": 72,
   "name": "Signed Routes - Interstates",
   "parentLayerId": 71,
   "defaultVisibility": true,
   "subLayerIds": null,
   "minScale": 0,
   "maxScale": 0
  },
  {
   "id": 73,
   "name": "Outside States Highways",
   "parentLayerId": 71,
   "defaultVisibility": true,
   "subLayerIds": [
    74,
    75,
    76
   ],
   "minScale": 0,
   "maxScale": 0
  },
  {
   "id": 74,
   "name": "Washington State Highways",
   "parentLayerId": 73,
   "defaultVisibility": true,
   "subLayerIds": null,
   "minScale": 0,
   "maxScale": 0
  },
  {
   "id": 75,
   "name": "Idaho State Highways",
   "parentLayerId": 73,
   "defaultVisibility": true,
   "subLayerIds": null,
   "minScale": 0,
   "maxScale": 0
  },
  {
   "id": 76,
   "name": "California and Nevada Highways",
   "parentLayerId": 73,
   "defaultVisibility": true,
   "subLayerIds": null,
   "minScale": 0,
   "maxScale": 0
  },
  {
   "id": 77,
   "name": "State 500k and Up",
   "parentLayerId": 41,
   "defaultVisibility": true,
   "subLayerIds": [
    78,
    79
   ],
   "minScale": 3500000,
   "maxScale": 750001
  },
  {
   "id": 78,
   "name": "Signed Routes",
   "parentLayerId": 77,
   "defaultVisibility": true,
   "subLayerIds": null,
   "minScale": 0,
   "maxScale": 0
  },
  {
   "id": 79,
   "name": "Outside States Highways",
   "parentLayerId": 77,
   "defaultVisibility": true,
   "subLayerIds": [
    80,
    81,
    82
   ],
   "minScale": 0,
   "maxScale": 0
  },
  {
   "id": 80,
   "name": "Washington State Highways",
   "parentLayerId": 79,
   "defaultVisibility": true,
   "subLayerIds": null,
   "minScale": 0,
   "maxScale": 0
  },
  {
   "id": 81,
   "name": "Idaho State Highways",
   "parentLayerId": 79,
   "defaultVisibility": true,
   "subLayerIds": null,
   "minScale": 0,
   "maxScale": 0
  },
  {
   "id": 82,
   "name": "California and Nevada Highways",
   "parentLayerId": 79,
   "defaultVisibility": true,
   "subLayerIds": null,
   "minScale": 0,
   "maxScale": 0
  },
  {
   "id": 83,
   "name": "Regional 250k to 500k",
   "parentLayerId": 41,
   "defaultVisibility": true,
   "subLayerIds": [
    84,
    85
   ],
   "minScale": 750000,
   "maxScale": 300001
  },
  {
   "id": 84,
   "name": "OR Trans Cartographic Regional Level",
   "parentLayerId": 83,
   "defaultVisibility": true,
   "subLayerIds": null,
   "minScale": 0,
   "maxScale": 0
  },
  {
   "id": 85,
   "name": "Outside States Highways",
   "parentLayerId": 83,
   "defaultVisibility": true,
   "subLayerIds": [
    86,
    87,
    88
   ],
   "minScale": 0,
   "maxScale": 0
  },
  {
   "id": 86,
   "name": "Washington State Highways",
   "parentLayerId": 85,
   "defaultVisibility": true,
   "subLayerIds": null,
   "minScale": 0,
   "maxScale": 0
  },
  {
   "id": 87,
   "name": "Idaho State Highways",
   "parentLayerId": 85,
   "defaultVisibility": true,
   "subLayerIds": null,
   "minScale": 0,
   "maxScale": 0
  },
  {
   "id": 88,
   "name": "California and Nevada Highways",
   "parentLayerId": 85,
   "defaultVisibility": true,
   "subLayerIds": null,
   "minScale": 0,
   "maxScale": 0
  },
  {
   "id": 89,
   "name": "County 250K to 101K",
   "parentLayerId": 41,
   "defaultVisibility": true,
   "subLayerIds": [
    90,
    91
   ],
   "minScale": 300000,
   "maxScale": 100001
  },
  {
   "id": 90,
   "name": "OR Trans Cartographic County Level",
   "parentLayerId": 89,
   "defaultVisibility": true,
   "subLayerIds": null,
   "minScale": 0,
   "maxScale": 0
  },
  {
   "id": 91,
   "name": "Outside States Highways",
   "parentLayerId": 89,
   "defaultVisibility": true,
   "subLayerIds": [
    92,
    93,
    94,
    95
   ],
   "minScale": 0,
   "maxScale": 0
  },
  {
   "id": 92,
   "name": "Washington State Highways",
   "parentLayerId": 91,
   "defaultVisibility": true,
   "subLayerIds": null,
   "minScale": 0,
   "maxScale": 0
  },
  {
   "id": 93,
   "name": "Idaho State Highways",
   "parentLayerId": 91,
   "defaultVisibility": true,
   "subLayerIds": null,
   "minScale": 0,
   "maxScale": 0
  },
  {
   "id": 94,
   "name": "California and Nevada Highways",
   "parentLayerId": 91,
   "defaultVisibility": true,
   "subLayerIds": null,
   "minScale": 0,
   "maxScale": 0
  },
  {
   "id": 95,
   "name": "Major Roads ESRI",
   "parentLayerId": 91,
   "defaultVisibility": true,
   "subLayerIds": null,
   "minScale": 0,
   "maxScale": 0
  },
  {
   "id": 96,
   "name": "City 100K and below",
   "parentLayerId": 41,
   "defaultVisibility": true,
   "subLayerIds": [
    97,
    98,
    101,
    102
   ],
   "minScale": 100000,
   "maxScale": 0
  },
  {
   "id": 97,
   "name": "Exit Numbers",
   "parentLayerId": 96,
   "defaultVisibility": true,
   "subLayerIds": null,
   "minScale": 10000,
   "maxScale": 0
  },
  {
   "id": 98,
   "name": "Road Names",
   "parentLayerId": 96,
   "defaultVisibility": true,
   "subLayerIds": [
    99,
    100
   ],
   "minScale": 0,
   "maxScale": 0
  },
  {
   "id": 99,
   "name": "Highway Names",
   "parentLayerId": 98,
   "defaultVisibility": true,
   "subLayerIds": null,
   "minScale": 0,
   "maxScale": 0
  },
  {
   "id": 100,
   "name": "Street Names",
   "parentLayerId": 98,
   "defaultVisibility": true,
   "subLayerIds": null,
   "minScale": 0,
   "maxScale": 0
  },
  {
   "id": 101,
   "name": "OR Trans Cartographic City Level",
   "parentLayerId": 96,
   "defaultVisibility": true,
   "subLayerIds": null,
   "minScale": 0,
   "maxScale": 0
  },
  {
   "id": 102,
   "name": "Outside States Highways",
   "parentLayerId": 96,
   "defaultVisibility": true,
   "subLayerIds": [
    103,
    104
   ],
   "minScale": 0,
   "maxScale": 0
  },
  {
   "id": 103,
   "name": "CA, ID, NV and WA Highways (ESRI)",
   "parentLayerId": 102,
   "defaultVisibility": true,
   "subLayerIds": null,
   "minScale": 0,
   "maxScale": 0
  },
  {
   "id": 104,
   "name": "CA, ID, NV and WA Local Streets (ESRI)",
   "parentLayerId": 102,
   "defaultVisibility": true,
   "subLayerIds": null,
   "minScale": 0,
   "maxScale": 0
  },
  {
   "id": 105,
   "name": "Railroads",
   "parentLayerId": 40,
   "defaultVisibility": true,
   "subLayerIds": null,
   "minScale": 200000,
   "maxScale": 0
  },
  {
   "id": 106,
   "name": "Airport Runway",
   "parentLayerId": 40,
   "defaultVisibility": true,
   "subLayerIds": null,
   "minScale": 80000,
   "maxScale": 0
  }
 ],
 "tables": [],
 "spatialReference": {
  "wkid": 102100,
  "latestWkid": 3857
 },
 "singleFusedMapCache": true,
 "tileInfo": {
  "rows": 256,
  "cols": 256,
  "dpi": 96,
  "format": "PNG32",
  "compressionQuality": 0,
  "origin": {
   "x": -2.0037508342787E7,
   "y": 2.0037508342787E7
  },
  "spatialReference": {
   "wkid": 102100,
   "latestWkid": 3857
  },
  "lods": [
   {
    "level": 0,
    "resolution": 156543.03392800014,
    "scale": 5.91657527591555E8
   },
   {
    "level": 1,
    "resolution": 78271.51696399994,
    "scale": 2.95828763795777E8
   },
   {
    "level": 2,
    "resolution": 39135.75848200009,
    "scale": 1.47914381897889E8
   },
   {
    "level": 3,
    "resolution": 19567.87924099992,
    "scale": 7.3957190948944E7
   },
   {
    "level": 4,
    "resolution": 9783.93962049996,
    "scale": 3.6978595474472E7
   },
   {
    "level": 5,
    "resolution": 4891.96981024998,
    "scale": 1.8489297737236E7
   },
   {
    "level": 6,
    "resolution": 2445.98490512499,
    "scale": 9244648.868618
   },
   {
    "level": 7,
    "resolution": 1222.992452562495,
    "scale": 4622324.434309
   },
   {
    "level": 8,
    "resolution": 611.4962262813797,
    "scale": 2311162.217155
   },
   {
    "level": 9,
    "resolution": 305.74811314055756,
    "scale": 1155581.108577
   },
   {
    "level": 10,
    "resolution": 152.87405657041106,
    "scale": 577790.554289
   },
   {
    "level": 11,
    "resolution": 76.43702828507324,
    "scale": 288895.277144
   },
   {
    "level": 12,
    "resolution": 38.21851414253662,
    "scale": 144447.638572
   },
   {
    "level": 13,
    "resolution": 19.10925707126831,
    "scale": 72223.819286
   },
   {
    "level": 14,
    "resolution": 9.554628535634155,
    "scale": 36111.909643
   },
   {
    "level": 15,
    "resolution": 4.77731426794937,
    "scale": 18055.954822
   },
   {
    "level": 16,
    "resolution": 2.388657133974685,
    "scale": 9027.977411
   },
   {
    "level": 17,
    "resolution": 1.1943285668550503,
    "scale": 4513.988705
   },
   {
    "level": 18,
    "resolution": 0.5971642835598172,
    "scale": 2256.994353
   },
   {
    "level": 19,
    "resolution": 0.29858214164761665,
    "scale": 1128.497176
   }
  ]
 },
 "initialExtent": {
  "xmin": -1.38964269615019E7,
  "ymin": 5324184.45566116,
  "xmax": -1.3371151703126196E7,
  "ymax": 5631767.057480694,
  "spatialReference": {
   "cs": "pcs",
   "wkid": 102100
  }
 },
 "fullExtent": {
  "xmin": -1.5279642022516131E7,
  "ymin": 4027349.3458369356,
  "xmax": -1.1576301454587476E7,
  "ymax": 7091658.043538244,
  "spatialReference": {
   "cs": "pcs",
   "wkid": 102100
  }
 },
 "minScale": 9244648.868618,
 "maxScale": 1128.497176,
 "units": "esriMeters",
 "supportedImageFormatTypes": "PNG32,PNG24,PNG,JPG,DIB,TIFF,EMF,PS,PDF,GIF,SVG,SVGZ,BMP",
 "documentInfo": {
  "Title": "",
  "Author": "",
  "Comments": "Aerial Overlay Basemap DEV",
  "Subject": "Aerial Overlay Basemap DEV",
  "Category": "",
  "AntialiasingMode": "None",
  "TextAntialiasingMode": "Force",
  "Keywords": "OregonDOT,ODOT,TransGIS,basemap,aerial overlay basemap"
 },
 "capabilities": "Map,Query,Data",
 "supportedQueryFormats": "JSON, AMF, geoJSON",
 "exportTilesAllowed": false,
 "supportsDatumTransformation": true,
 "maxRecordCount": 1000,
 "maxImageHeight": 4096,
 "maxImageWidth": 4096,
 "supportedExtensions": "KmlServer"
}
