{
 "currentVersion": 10.61,
 "serviceDescription": "Terrain Basemap (External TEST)",
 "mapName": "Base Layers",
 "description": "",
 "copyrightText": "Oregon Department of Transportation, Geographic Information Services Unit",
 "supportsDynamicLayers": true,
 "layers": [
  {
   "id": 0,
   "name": "WEBMAP_map_extent",
   "parentLayerId": -1,
   "defaultVisibility": false,
   "subLayerIds": null,
   "minScale": 0,
   "maxScale": 0
  },
  {
   "id": 1,
   "name": "Buildings with Hillshade",
   "parentLayerId": -1,
   "defaultVisibility": true,
   "subLayerIds": [
    2,
    3,
    4
   ],
   "minScale": 30000,
   "maxScale": 0
  },
  {
   "id": 2,
   "name": "buildings",
   "parentLayerId": 1,
   "defaultVisibility": true,
   "subLayerIds": null,
   "minScale": 0,
   "maxScale": 0
  },
  {
   "id": 3,
   "name": "metro_buildings_hillshade",
   "parentLayerId": 1,
   "defaultVisibility": true,
   "subLayerIds": null,
   "minScale": 5000,
   "maxScale": 0
  },
  {
   "id": 4,
   "name": "buildings_drop_shadow",
   "parentLayerId": 1,
   "defaultVisibility": true,
   "subLayerIds": null,
   "minScale": 0,
   "maxScale": 0
  },
  {
   "id": 5,
   "name": "Background Features",
   "parentLayerId": -1,
   "defaultVisibility": true,
   "subLayerIds": [
    6,
    9
   ],
   "minScale": 0,
   "maxScale": 0
  },
  {
   "id": 6,
   "name": "Islands",
   "parentLayerId": 5,
   "defaultVisibility": true,
   "subLayerIds": [
    7,
    8
   ],
   "minScale": 0,
   "maxScale": 0
  },
  {
   "id": 7,
   "name": "Washington Islands",
   "parentLayerId": 6,
   "defaultVisibility": true,
   "subLayerIds": null,
   "minScale": 0,
   "maxScale": 0
  },
  {
   "id": 8,
   "name": "Oregon Islands",
   "parentLayerId": 6,
   "defaultVisibility": true,
   "subLayerIds": null,
   "minScale": 0,
   "maxScale": 0
  },
  {
   "id": 9,
   "name": "Hydrography",
   "parentLayerId": 5,
   "defaultVisibility": true,
   "subLayerIds": [
    10,
    12,
    14
   ],
   "minScale": 0,
   "maxScale": 0
  },
  {
   "id": 10,
   "name": "1000K",
   "parentLayerId": 9,
   "defaultVisibility": true,
   "subLayerIds": [
    11
   ],
   "minScale": 0,
   "maxScale": 750001
  },
  {
   "id": 11,
   "name": "Water Bodies",
   "parentLayerId": 10,
   "defaultVisibility": true,
   "subLayerIds": null,
   "minScale": 0,
   "maxScale": 750001
  },
  {
   "id": 12,
   "name": "250K",
   "parentLayerId": 9,
   "defaultVisibility": true,
   "subLayerIds": [
    13
   ],
   "minScale": 750000,
   "maxScale": 30001
  },
  {
   "id": 13,
   "name": "Water Bodies",
   "parentLayerId": 12,
   "defaultVisibility": true,
   "subLayerIds": null,
   "minScale": 0,
   "maxScale": 0
  },
  {
   "id": 14,
   "name": "24K",
   "parentLayerId": 9,
   "defaultVisibility": true,
   "subLayerIds": [
    15
   ],
   "minScale": 30000,
   "maxScale": 0
  },
  {
   "id": 15,
   "name": "Water Bodies",
   "parentLayerId": 14,
   "defaultVisibility": true,
   "subLayerIds": null,
   "minScale": 0,
   "maxScale": 0
  },
  {
   "id": 16,
   "name": "Background Fill",
   "parentLayerId": -1,
   "defaultVisibility": true,
   "subLayerIds": [
    17,
    18,
    19,
    22,
    23
   ],
   "minScale": 0,
   "maxScale": 0
  },
  {
   "id": 17,
   "name": "Ocean",
   "parentLayerId": 16,
   "defaultVisibility": true,
   "subLayerIds": null,
   "minScale": 0,
   "maxScale": 750001
  },
  {
   "id": 18,
   "name": "Public Lands",
   "parentLayerId": 16,
   "defaultVisibility": true,
   "subLayerIds": null,
   "minScale": 0,
   "maxScale": 0
  },
  {
   "id": 19,
   "name": "Oregon Background",
   "parentLayerId": 16,
   "defaultVisibility": true,
   "subLayerIds": [
    20,
    21
   ],
   "minScale": 0,
   "maxScale": 0
  },
  {
   "id": 20,
   "name": "Oregon_Gray Background Large Scale",
   "parentLayerId": 19,
   "defaultVisibility": true,
   "subLayerIds": null,
   "minScale": 40000,
   "maxScale": 0
  },
  {
   "id": 21,
   "name": "Oregon_Gray Background",
   "parentLayerId": 19,
   "defaultVisibility": true,
   "subLayerIds": null,
   "minScale": 0,
   "maxScale": 60000
  },
  {
   "id": 22,
   "name": "Outside States_500k",
   "parentLayerId": 16,
   "defaultVisibility": true,
   "subLayerIds": null,
   "minScale": 500000,
   "maxScale": 0
  },
  {
   "id": 23,
   "name": "Background Areas_Land",
   "parentLayerId": 16,
   "defaultVisibility": true,
   "subLayerIds": [
    24
   ],
   "minScale": 0,
   "maxScale": 0
  },
  {
   "id": 24,
   "name": "Background Areas_States 500K",
   "parentLayerId": 23,
   "defaultVisibility": true,
   "subLayerIds": null,
   "minScale": 0,
   "maxScale": 500001
  },
  {
   "id": 25,
   "name": "Background Relief",
   "parentLayerId": -1,
   "defaultVisibility": true,
   "subLayerIds": [
    26,
    28,
    37,
    47,
    51
   ],
   "minScale": 0,
   "maxScale": 0
  },
  {
   "id": 26,
   "name": "Lidar",
   "parentLayerId": 25,
   "defaultVisibility": true,
   "subLayerIds": [
    27
   ],
   "minScale": 9500,
   "maxScale": 0
  },
  {
   "id": 27,
   "name": "lidar_bare_earth_hillshade",
   "parentLayerId": 26,
   "defaultVisibility": true,
   "subLayerIds": null,
   "minScale": 0,
   "maxScale": 0
  },
  {
   "id": 28,
   "name": "Lidar and 10meter",
   "parentLayerId": 25,
   "defaultVisibility": true,
   "subLayerIds": [
    29,
    30
   ],
   "minScale": 40000,
   "maxScale": 10000
  },
  {
   "id": 29,
   "name": "lidar_bare_earth_hillshade",
   "parentLayerId": 28,
   "defaultVisibility": true,
   "subLayerIds": null,
   "minScale": 0,
   "maxScale": 0
  },
  {
   "id": 30,
   "name": "10 Meter Hillshade",
   "parentLayerId": 28,
   "defaultVisibility": true,
   "subLayerIds": [
    31,
    32,
    34,
    35
   ],
   "minScale": 0,
   "maxScale": 0
  },
  {
   "id": 31,
   "name": "Oregon Hillshade",
   "parentLayerId": 30,
   "defaultVisibility": true,
   "subLayerIds": null,
   "minScale": 0,
   "maxScale": 0
  },
  {
   "id": 32,
   "name": "Washington Hillshade",
   "parentLayerId": 30,
   "defaultVisibility": true,
   "subLayerIds": [
    33
   ],
   "minScale": 0,
   "maxScale": 0
  },
  {
   "id": 33,
   "name": "washington_hillshade_10m",
   "parentLayerId": 32,
   "defaultVisibility": true,
   "subLayerIds": null,
   "minScale": 0,
   "maxScale": 0
  },
  {
   "id": 34,
   "name": "Idaho Hillshade",
   "parentLayerId": 30,
   "defaultVisibility": true,
   "subLayerIds": null,
   "minScale": 0,
   "maxScale": 0
  },
  {
   "id": 35,
   "name": "California and Nevada Hillshade",
   "parentLayerId": 30,
   "defaultVisibility": true,
   "subLayerIds": [
    36
   ],
   "minScale": 0,
   "maxScale": 0
  },
  {
   "id": 36,
   "name": "cali_nev_hillshade",
   "parentLayerId": 35,
   "defaultVisibility": true,
   "subLayerIds": null,
   "minScale": 0,
   "maxScale": 0
  },
  {
   "id": 37,
   "name": "Relief_500K to City",
   "parentLayerId": 25,
   "defaultVisibility": true,
   "subLayerIds": [
    38,
    39,
    46
   ],
   "minScale": 749999,
   "maxScale": 60000
  },
  {
   "id": 38,
   "name": "Bathymetry",
   "parentLayerId": 37,
   "defaultVisibility": true,
   "subLayerIds": null,
   "minScale": 0,
   "maxScale": 100000
  },
  {
   "id": 39,
   "name": "10 Meter Hillshade",
   "parentLayerId": 37,
   "defaultVisibility": true,
   "subLayerIds": [
    40,
    41,
    43,
    44
   ],
   "minScale": 0,
   "maxScale": 0
  },
  {
   "id": 40,
   "name": "Oregon Hillshade",
   "parentLayerId": 39,
   "defaultVisibility": true,
   "subLayerIds": null,
   "minScale": 0,
   "maxScale": 0
  },
  {
   "id": 41,
   "name": "Washington Hillshade",
   "parentLayerId": 39,
   "defaultVisibility": true,
   "subLayerIds": [
    42
   ],
   "minScale": 0,
   "maxScale": 0
  },
  {
   "id": 42,
   "name": "washington_hillshade_10m",
   "parentLayerId": 41,
   "defaultVisibility": true,
   "subLayerIds": null,
   "minScale": 0,
   "maxScale": 0
  },
  {
   "id": 43,
   "name": "Idaho Hillshade",
   "parentLayerId": 39,
   "defaultVisibility": true,
   "subLayerIds": null,
   "minScale": 0,
   "maxScale": 0
  },
  {
   "id": 44,
   "name": "California and Nevada Hillshade",
   "parentLayerId": 39,
   "defaultVisibility": true,
   "subLayerIds": [
    45
   ],
   "minScale": 0,
   "maxScale": 0
  },
  {
   "id": 45,
   "name": "cali_nev_hillshade",
   "parentLayerId": 44,
   "defaultVisibility": true,
   "subLayerIds": null,
   "minScale": 0,
   "maxScale": 0
  },
  {
   "id": 46,
   "name": "SRTM",
   "parentLayerId": 37,
   "defaultVisibility": true,
   "subLayerIds": null,
   "minScale": 0,
   "maxScale": 0
  },
  {
   "id": 47,
   "name": "Relief_500K and Up",
   "parentLayerId": 25,
   "defaultVisibility": true,
   "subLayerIds": [
    48,
    49,
    50
   ],
   "minScale": 1249999,
   "maxScale": 750000
  },
  {
   "id": 48,
   "name": "NOAA Bathymetry",
   "parentLayerId": 47,
   "defaultVisibility": true,
   "subLayerIds": null,
   "minScale": 0,
   "maxScale": 0
  },
  {
   "id": 49,
   "name": "USGS Bathymetry",
   "parentLayerId": 47,
   "defaultVisibility": true,
   "subLayerIds": null,
   "minScale": 0,
   "maxScale": 0
  },
  {
   "id": 50,
   "name": "SRTM",
   "parentLayerId": 47,
   "defaultVisibility": true,
   "subLayerIds": null,
   "minScale": 0,
   "maxScale": 0
  },
  {
   "id": 51,
   "name": "Level 1 Relief",
   "parentLayerId": 25,
   "defaultVisibility": true,
   "subLayerIds": [
    52,
    53,
    54
   ],
   "minScale": 0,
   "maxScale": 1250000
  },
  {
   "id": 52,
   "name": "Bathymetry",
   "parentLayerId": 51,
   "defaultVisibility": true,
   "subLayerIds": null,
   "minScale": 0,
   "maxScale": 0
  },
  {
   "id": 53,
   "name": "World Bathymetry",
   "parentLayerId": 51,
   "defaultVisibility": true,
   "subLayerIds": null,
   "minScale": 0,
   "maxScale": 0
  },
  {
   "id": 54,
   "name": "SRTM",
   "parentLayerId": 51,
   "defaultVisibility": true,
   "subLayerIds": null,
   "minScale": 0,
   "maxScale": 0
  }
 ],
 "tables": [],
 "spatialReference": {
  "wkid": 102100,
  "latestWkid": 3857
 },
 "singleFusedMapCache": true,
 "tileInfo": {
  "rows": 256,
  "cols": 256,
  "dpi": 96,
  "format": "JPEG",
  "compressionQuality": 75,
  "origin": {
   "x": -2.0037508342787E7,
   "y": 2.0037508342787E7
  },
  "spatialReference": {
   "wkid": 102100,
   "latestWkid": 3857
  },
  "lods": [
   {
    "level": 0,
    "resolution": 156543.03392800014,
    "scale": 5.91657527591555E8
   },
   {
    "level": 1,
    "resolution": 78271.51696399994,
    "scale": 2.95828763795777E8
   },
   {
    "level": 2,
    "resolution": 39135.75848200009,
    "scale": 1.47914381897889E8
   },
   {
    "level": 3,
    "resolution": 19567.87924099992,
    "scale": 7.3957190948944E7
   },
   {
    "level": 4,
    "resolution": 9783.93962049996,
    "scale": 3.6978595474472E7
   },
   {
    "level": 5,
    "resolution": 4891.96981024998,
    "scale": 1.8489297737236E7
   },
   {
    "level": 6,
    "resolution": 2445.98490512499,
    "scale": 9244648.868618
   },
   {
    "level": 7,
    "resolution": 1222.992452562495,
    "scale": 4622324.434309
   },
   {
    "level": 8,
    "resolution": 611.4962262813797,
    "scale": 2311162.217155
   },
   {
    "level": 9,
    "resolution": 305.74811314055756,
    "scale": 1155581.108577
   },
   {
    "level": 10,
    "resolution": 152.87405657041106,
    "scale": 577790.554289
   },
   {
    "level": 11,
    "resolution": 76.43702828507324,
    "scale": 288895.277144
   },
   {
    "level": 12,
    "resolution": 38.21851414253662,
    "scale": 144447.638572
   },
   {
    "level": 13,
    "resolution": 19.10925707126831,
    "scale": 72223.819286
   },
   {
    "level": 14,
    "resolution": 9.554628535634155,
    "scale": 36111.909643
   },
   {
    "level": 15,
    "resolution": 4.77731426794937,
    "scale": 18055.954822
   },
   {
    "level": 16,
    "resolution": 2.388657133974685,
    "scale": 9027.977411
   },
   {
    "level": 17,
    "resolution": 1.1943285668550503,
    "scale": 4513.988705
   },
   {
    "level": 18,
    "resolution": 0.5971642835598172,
    "scale": 2256.994353
   },
   {
    "level": 19,
    "resolution": 0.29858214164761665,
    "scale": 1128.497176
   }
  ]
 },
 "initialExtent": {
  "xmin": -1.3957527470511366E7,
  "ymin": 5227171.482533178,
  "xmax": -1.2850719300942305E7,
  "ymax": 5968660.615741207,
  "spatialReference": {
   "cs": "pcs",
   "wkid": 102100
  }
 },
 "fullExtent": {
  "xmin": -1.5279642022516131E7,
  "ymin": 4027349.3458369323,
  "xmax": -1.1576301454587476E7,
  "ymax": 7091658.043538244,
  "spatialReference": {
   "cs": "pcs",
   "wkid": 102100
  }
 },
 "minScale": 9244648.868618,
 "maxScale": 1128.497176,
 "units": "esriMeters",
 "supportedImageFormatTypes": "PNG32,PNG24,PNG,JPG,DIB,TIFF,EMF,PS,PDF,GIF,SVG,SVGZ,BMP",
 "documentInfo": {
  "Title": "",
  "Author": "",
  "Comments": "",
  "Subject": "",
  "Category": "",
  "AntialiasingMode": "None",
  "TextAntialiasingMode": "Force",
  "Keywords": "OregonDOT,ODOT,TransGIS,basemaps,terrain,lidar"
 },
 "capabilities": "Map,Query,Data",
 "supportedQueryFormats": "JSON, AMF, geoJSON",
 "exportTilesAllowed": false,
 "datumTransformations": [
  {
   "geoTransforms": [
    {
     "wkid": 108001,
     "latestWkid": 1241,
     "transformForward": true,
     "name": "NAD_1927_To_NAD_1983_NADCON"
    }
   ]
  },
  {
   "geoTransforms": [
    {
     "wkid": 108001,
     "latestWkid": 1241,
     "transformForward": false,
     "name": "NAD_1927_To_NAD_1983_NADCON"
    }
   ]
  },
  {
   "geoTransforms": [
    {
     "wkid": 8088,
     "latestWkid": 1188,
     "transformForward": true,
     "name": "NAD_1983_To_WGS_1984_1"
    }
   ]
  },
  {
   "geoTransforms": [
    {
     "wkid": 8088,
     "latestWkid": 1188,
     "transformForward": false,
     "name": "NAD_1983_To_WGS_1984_1"
    }
   ]
  }
 ],
 "supportsDatumTransformation": true,
 "maxRecordCount": 1000,
 "maxImageHeight": 4096,
 "maxImageWidth": 4096,
 "supportedExtensions": "KmlServer"
}
